BEGIN:VCALENDAR
VERSION:2.0
PRODID:-//Nassau County Council on Aging - ECPv6.15.20//NONSGML v1.0//EN
CALSCALE:GREGORIAN
METHOD:PUBLISH
X-ORIGINAL-URL:https://www.nassaucountycouncilonaging.org
X-WR-CALDESC:Events for Nassau County Council on Aging
REFRESH-INTERVAL;VALUE=DURATION:PT1H
X-Robots-Tag:noindex
X-PUBLISHED-TTL:PT1H
BEGIN:VTIMEZONE
TZID:America/New_York
BEGIN:DAYLIGHT
TZOFFSETFROM:-0500
TZOFFSETTO:-0400
TZNAME:EDT
DTSTART:20230312T070000
END:DAYLIGHT
BEGIN:STANDARD
TZOFFSETFROM:-0400
TZOFFSETTO:-0500
TZNAME:EST
DTSTART:20231105T060000
END:STANDARD
BEGIN:DAYLIGHT
TZOFFSETFROM:-0500
TZOFFSETTO:-0400
TZNAME:EDT
DTSTART:20240310T070000
END:DAYLIGHT
BEGIN:STANDARD
TZOFFSETFROM:-0400
TZOFFSETTO:-0500
TZNAME:EST
DTSTART:20241103T060000
END:STANDARD
BEGIN:DAYLIGHT
TZOFFSETFROM:-0500
TZOFFSETTO:-0400
TZNAME:EDT
DTSTART:20250309T070000
END:DAYLIGHT
BEGIN:STANDARD
TZOFFSETFROM:-0400
TZOFFSETTO:-0500
TZNAME:EST
DTSTART:20251102T060000
END:STANDARD
END:VTIMEZONE
BEGIN:VEVENT
DTSTART;TZID=America/New_York:20240823T090000
DTEND;TZID=America/New_York:20240823T094500
DTSTAMP:20260424T210547
CREATED:20240818T190806Z
LAST-MODIFIED:20240818T190816Z
UID:10008537-1724403600-1724406300@www.nassaucountycouncilonaging.org
SUMMARY:Chair Yoga
DESCRIPTION:9 – 9:45 am\nTina LaVacca \nBook Now
URL:https://www.nassaucountycouncilonaging.org/calendar/chair-yoga-5-11-27-9/
LOCATION:Janice Ancrum Senior Life Center\, 1901 Island Walk Way\, Fernandina Beach\, FL\, 32034
CATEGORIES:Wellness, Health & Fitness
ATTACH;FMTTYPE=image/png:https://www.nassaucountycouncilonaging.org/wp-content/uploads/2021/12/yoga.png
END:VEVENT
BEGIN:VEVENT
DTSTART;TZID=America/New_York:20240823T093000
DTEND;TZID=America/New_York:20240823T120000
DTSTAMP:20260424T210547
CREATED:20240818T190923Z
LAST-MODIFIED:20240818T190942Z
UID:10008550-1724405400-1724414400@www.nassaucountycouncilonaging.org
SUMMARY:Canasta: Hand\, Knee & Foot
DESCRIPTION:Open Play & Instruction\n9:30 am – 12:00 pm\nDebbie Price \nBook Now
URL:https://www.nassaucountycouncilonaging.org/calendar/canasta-5-2-2-2-9-24-12-27-9/
LOCATION:Janice Ancrum Senior Life Center\, 1901 Island Walk Way\, Fernandina Beach\, FL\, 32034
CATEGORIES:Cards & Games
ATTACH;FMTTYPE=image/png:https://www.nassaucountycouncilonaging.org/wp-content/uploads/2022/11/card-games.png
END:VEVENT
BEGIN:VEVENT
DTSTART;TZID=America/New_York:20240823T100000
DTEND;TZID=America/New_York:20240823T110000
DTSTAMP:20260424T210547
CREATED:20240818T191038Z
LAST-MODIFIED:20240818T191051Z
UID:10009670-1724407200-1724410800@www.nassaucountycouncilonaging.org
SUMMARY:Aerobic Exercise
DESCRIPTION:10:00 am – 11:00 am\nMerle Sauer \nBook Now
URL:https://www.nassaucountycouncilonaging.org/calendar/aerobic-exercise-3-13-8/
LOCATION:Janice Ancrum Senior Life Center\, 1901 Island Walk Way\, Fernandina Beach\, FL\, 32034
CATEGORIES:Wellness, Health & Fitness
ATTACH;FMTTYPE=image/png:https://www.nassaucountycouncilonaging.org/wp-content/uploads/2021/12/excercise.png
END:VEVENT
BEGIN:VEVENT
DTSTART;TZID=America/New_York:20240823T110000
DTEND;TZID=America/New_York:20240823T114500
DTSTAMP:20260424T210547
CREATED:20240818T191339Z
LAST-MODIFIED:20240818T191347Z
UID:10008934-1724410800-1724413500@www.nassaucountycouncilonaging.org
SUMMARY:Pilates
DESCRIPTION:11:00 am – 11:45 pm\nMerle Sauer \nBook Now
URL:https://www.nassaucountycouncilonaging.org/calendar/pilates-6-13-8/
LOCATION:Janice Ancrum Senior Life Center\, 1901 Island Walk Way\, Fernandina Beach\, FL\, 32034
CATEGORIES:Wellness, Health & Fitness
ATTACH;FMTTYPE=image/png:https://www.nassaucountycouncilonaging.org/wp-content/uploads/2023/01/pelvic-floor-and-core.png
END:VEVENT
BEGIN:VEVENT
DTSTART;TZID=America/New_York:20240823T110000
DTEND;TZID=America/New_York:20240823T123000
DTSTAMP:20260424T210547
CREATED:20240818T191444Z
LAST-MODIFIED:20240818T191503Z
UID:10008568-1724410800-1724416200@www.nassaucountycouncilonaging.org
SUMMARY:NAMI Mental Health Support Group
DESCRIPTION:National Alliance of Mental Illness (NAMI)\n11:00 am – 12:30 pm \nShare experiences with individuals\, family members and friends impacted by mental illness\nContact: NAMI Nassau\, 904-277-1886\nNational Alliance of Mental Illness \nBook Now
URL:https://www.nassaucountycouncilonaging.org/calendar/nami-mental-health-support-group-3-2-2-6-49-23/
LOCATION:Janice Ancrum Senior Life Center\, 1901 Island Walk Way\, Fernandina Beach\, FL\, 32034
CATEGORIES:Health & Support
ATTACH;FMTTYPE=image/png:https://www.nassaucountycouncilonaging.org/wp-content/uploads/2023/03/NAMISized.png
END:VEVENT
BEGIN:VEVENT
DTSTART;TZID=America/New_York:20240823T123000
DTEND;TZID=America/New_York:20240823T160000
DTSTAMP:20260424T210547
CREATED:20240818T191729Z
LAST-MODIFIED:20240818T191740Z
UID:10008615-1724416200-1724428800@www.nassaucountycouncilonaging.org
SUMMARY:Bridge
DESCRIPTION:Open Play – All Levels\n12:30 pm – 4:00 pm \nBook Now
URL:https://www.nassaucountycouncilonaging.org/calendar/bridge-3-18-15-7-35/
LOCATION:Janice Ancrum Senior Life Center\, 1901 Island Walk Way\, Fernandina Beach\, FL\, 32034
CATEGORIES:Cards & Games
ATTACH;FMTTYPE=image/png:https://www.nassaucountycouncilonaging.org/wp-content/uploads/2022/11/card-games.png
END:VEVENT
BEGIN:VEVENT
DTSTART;TZID=America/New_York:20240823T130000
DTEND;TZID=America/New_York:20240823T140000
DTSTAMP:20260424T210547
CREATED:20240818T191846Z
LAST-MODIFIED:20240818T191906Z
UID:10010096-1724418000-1724421600@www.nassaucountycouncilonaging.org
SUMMARY:Calligraphy / Painting
DESCRIPTION:1 – 2 pm\nLeeanne Saylors\nSaylors Accounting & Tax \nBook Now
URL:https://www.nassaucountycouncilonaging.org/calendar/calligraphy-23-5-5/
LOCATION:Janice Ancrum Senior Life Center\, 1901 Island Walk Way\, Fernandina Beach\, FL\, 32034
CATEGORIES:Arts, Crafts & Hobbies
ATTACH;FMTTYPE=image/png:https://www.nassaucountycouncilonaging.org/wp-content/uploads/2022/09/art-and-crafts.png
END:VEVENT
BEGIN:VEVENT
DTSTART;TZID=America/New_York:20240823T130000
DTEND;TZID=America/New_York:20240823T140000
DTSTAMP:20260424T210547
CREATED:20240818T192010Z
LAST-MODIFIED:20240818T192022Z
UID:10008645-1724418000-1724421600@www.nassaucountycouncilonaging.org
SUMMARY:Posture & Balance
DESCRIPTION:1:00 pm – 2:00 pm\nJohn Cipriani \nBook Now
URL:https://www.nassaucountycouncilonaging.org/calendar/posture-balance-4-12-33/
LOCATION:Janice Ancrum Senior Life Center\, 1901 Island Walk Way\, Fernandina Beach\, FL\, 32034
CATEGORIES:Wellness, Health & Fitness
ATTACH;FMTTYPE=image/png:https://www.nassaucountycouncilonaging.org/wp-content/uploads/2021/12/excercise.png
END:VEVENT
BEGIN:VEVENT
DTSTART;TZID=America/New_York:20240823T143000
DTEND;TZID=America/New_York:20240823T163000
DTSTAMP:20260424T210547
CREATED:20240818T192130Z
LAST-MODIFIED:20240818T192140Z
UID:10009782-1724423400-1724430600@www.nassaucountycouncilonaging.org
SUMMARY:Painting
DESCRIPTION:2:30 – 4:30 pm\nLeeanne Saylors\nSaylors Accounting & Tax \nBook Now
URL:https://www.nassaucountycouncilonaging.org/calendar/painting-23-7/
LOCATION:Janice Ancrum Senior Life Center\, 1901 Island Walk Way\, Fernandina Beach\, FL\, 32034
CATEGORIES:Arts, Crafts & Hobbies
ATTACH;FMTTYPE=image/png:https://www.nassaucountycouncilonaging.org/wp-content/uploads/2022/09/art-and-crafts.png
END:VEVENT
END:VCALENDAR