BEGIN:VCALENDAR
VERSION:2.0
PRODID:-//Nassau County Council on Aging - ECPv6.15.20//NONSGML v1.0//EN
CALSCALE:GREGORIAN
METHOD:PUBLISH
X-WR-CALNAME:Nassau County Council on Aging
X-ORIGINAL-URL:https://www.nassaucountycouncilonaging.org
X-WR-CALDESC:Events for Nassau County Council on Aging
REFRESH-INTERVAL;VALUE=DURATION:PT1H
X-Robots-Tag:noindex
X-PUBLISHED-TTL:PT1H
BEGIN:VTIMEZONE
TZID:America/New_York
BEGIN:DAYLIGHT
TZOFFSETFROM:-0500
TZOFFSETTO:-0400
TZNAME:EDT
DTSTART:20230312T070000
END:DAYLIGHT
BEGIN:STANDARD
TZOFFSETFROM:-0400
TZOFFSETTO:-0500
TZNAME:EST
DTSTART:20231105T060000
END:STANDARD
BEGIN:DAYLIGHT
TZOFFSETFROM:-0500
TZOFFSETTO:-0400
TZNAME:EDT
DTSTART:20240310T070000
END:DAYLIGHT
BEGIN:STANDARD
TZOFFSETFROM:-0400
TZOFFSETTO:-0500
TZNAME:EST
DTSTART:20241103T060000
END:STANDARD
BEGIN:DAYLIGHT
TZOFFSETFROM:-0500
TZOFFSETTO:-0400
TZNAME:EDT
DTSTART:20250309T070000
END:DAYLIGHT
BEGIN:STANDARD
TZOFFSETFROM:-0400
TZOFFSETTO:-0500
TZNAME:EST
DTSTART:20251102T060000
END:STANDARD
END:VTIMEZONE
BEGIN:VEVENT
DTSTART;TZID=America/New_York:20240814T083000
DTEND;TZID=America/New_York:20240814T093000
DTSTAMP:20260423T171527
CREATED:20240810T184604Z
LAST-MODIFIED:20240810T184608Z
UID:10008249-1723624200-1723627800@www.nassaucountycouncilonaging.org
SUMMARY:Stretch & Balance - Advanced
DESCRIPTION:8:30 am – 9:30 am\nJanice Clarkson \nBook Now
URL:https://www.nassaucountycouncilonaging.org/calendar/advanced-stretch-balance-5-28-15-33/
LOCATION:Janice Ancrum Senior Life Center\, 1901 Island Walk Way\, Fernandina Beach\, FL\, 32034
CATEGORIES:Wellness, Health & Fitness
ATTACH;FMTTYPE=image/png:https://www.nassaucountycouncilonaging.org/wp-content/uploads/2021/12/excercise.png
END:VEVENT
BEGIN:VEVENT
DTSTART;TZID=America/New_York:20240814T093000
DTEND;TZID=America/New_York:20240814T123000
DTSTAMP:20260423T171527
CREATED:20240810T184709Z
LAST-MODIFIED:20240810T184714Z
UID:10008505-1723627800-1723638600@www.nassaucountycouncilonaging.org
SUMMARY:Party Bridge
DESCRIPTION:All Levels of Play\n9:30 am – 12:30 pm\nLois Stewart \nBook Now
URL:https://www.nassaucountycouncilonaging.org/calendar/open-bridge-2-22/
LOCATION:Janice Ancrum Senior Life Center\, 1901 Island Walk Way\, Fernandina Beach\, FL\, 32034
CATEGORIES:Cards & Games
ATTACH;FMTTYPE=image/png:https://www.nassaucountycouncilonaging.org/wp-content/uploads/2022/11/card-games.png
END:VEVENT
BEGIN:VEVENT
DTSTART;TZID=America/New_York:20240814T100000
DTEND;TZID=America/New_York:20240814T110000
DTSTAMP:20260423T171527
CREATED:20240810T184810Z
LAST-MODIFIED:20240810T184815Z
UID:10008278-1723629600-1723633200@www.nassaucountycouncilonaging.org
SUMMARY:Weight Training and Toning
DESCRIPTION:10:00 am – 11:00 am\nJanice Clarkson \nBook Now
URL:https://www.nassaucountycouncilonaging.org/calendar/weight-training-and-toning-5-28-14-34/
LOCATION:Janice Ancrum Senior Life Center\, 1901 Island Walk Way\, Fernandina Beach\, FL\, 32034
CATEGORIES:Wellness, Health & Fitness
ATTACH;FMTTYPE=image/png:https://www.nassaucountycouncilonaging.org/wp-content/uploads/2021/12/excercise.png
END:VEVENT
BEGIN:VEVENT
DTSTART;TZID=America/New_York:20240814T113000
DTEND;TZID=America/New_York:20240814T123000
DTSTAMP:20260423T171527
CREATED:20240810T185132Z
LAST-MODIFIED:20240810T185138Z
UID:10008296-1723635000-1723638600@www.nassaucountycouncilonaging.org
SUMMARY:Enerchi
DESCRIPTION:11:30 am – 12:30 pm\nMary Bleck \nBook Now
URL:https://www.nassaucountycouncilonaging.org/calendar/enerchi-3-18-14-13-33/
LOCATION:Janice Ancrum Senior Life Center\, 1901 Island Walk Way\, Fernandina Beach\, FL\, 32034
CATEGORIES:Wellness, Health & Fitness
ATTACH;FMTTYPE=image/png:https://www.nassaucountycouncilonaging.org/wp-content/uploads/2021/12/excercise.png
END:VEVENT
BEGIN:VEVENT
DTSTART;TZID=America/New_York:20240814T130000
DTEND;TZID=America/New_York:20240814T134500
DTSTAMP:20260423T171527
CREATED:20240810T185328Z
LAST-MODIFIED:20240810T185335Z
UID:10008314-1723640400-1723643100@www.nassaucountycouncilonaging.org
SUMMARY:Line Dancing
DESCRIPTION:Basic\n1:00 pm – 1:45 pm\nKathy Ball \nBook Now
URL:https://www.nassaucountycouncilonaging.org/calendar/line-dancing-6-28-14-32/
LOCATION:Janice Ancrum Senior Life Center\, 1901 Island Walk Way\, Fernandina Beach\, FL\, 32034
CATEGORIES:Music & Dancing
ATTACH;FMTTYPE=image/png:https://www.nassaucountycouncilonaging.org/wp-content/uploads/2021/05/line-dancing.png
END:VEVENT
BEGIN:VEVENT
DTSTART;TZID=America/New_York:20240814T130000
DTEND;TZID=America/New_York:20240814T153000
DTSTAMP:20260423T171527
CREATED:20240810T185447Z
LAST-MODIFIED:20240810T185458Z
UID:10008332-1723640400-1723649400@www.nassaucountycouncilonaging.org
SUMMARY:Cribbage - All Levels
DESCRIPTION:1:00 pm – 3:30 pm\nShirley Green \nBook Now
URL:https://www.nassaucountycouncilonaging.org/calendar/cribbage-all-levels-4-12-34/
LOCATION:Janice Ancrum Senior Life Center\, 1901 Island Walk Way\, Fernandina Beach\, FL\, 32034
CATEGORIES:Cards & Games
ATTACH;FMTTYPE=image/png:https://www.nassaucountycouncilonaging.org/wp-content/uploads/2022/11/card-games.png
END:VEVENT
BEGIN:VEVENT
DTSTART;TZID=America/New_York:20240814T133000
DTEND;TZID=America/New_York:20240814T150000
DTSTAMP:20260423T171527
CREATED:20240810T185646Z
LAST-MODIFIED:20240810T185738Z
UID:10010009-1723642200-1723647600@www.nassaucountycouncilonaging.org
SUMMARY:Caregiver Stress-Buster Forum
DESCRIPTION:1:30 – 3:00 pm\nJennifer Gundling  | 904-775-5488 or jgundling@nassaucountycoa.org\nEmily Kunzelmann | 904-775-5472 or ekunzelmann@nassaucountycoa.org \nPractice stress-deduction and problem solving techniques to be a successful caregiver. \n 
URL:https://www.nassaucountycouncilonaging.org/calendar/caregiver-stress-buster-forum-3/
LOCATION:Janice Ancrum Senior Life Center\, 1901 Island Walk Way\, Fernandina Beach\, FL\, 32034
CATEGORIES:Health & Support
ATTACH;FMTTYPE=image/png:https://www.nassaucountycouncilonaging.org/wp-content/uploads/2023/06/CareSized.png
END:VEVENT
BEGIN:VEVENT
DTSTART;TZID=America/New_York:20240814T140000
DTEND;TZID=America/New_York:20240814T150000
DTSTAMP:20260423T171527
CREATED:20240810T185914Z
LAST-MODIFIED:20240810T185925Z
UID:10008350-1723644000-1723647600@www.nassaucountycouncilonaging.org
SUMMARY:Line Dancing
DESCRIPTION:Intermediate\n2:00 pm – 3:00 pm\nKathy Ball \nBook Now
URL:https://www.nassaucountycouncilonaging.org/calendar/line-dancing-2-5-12-17-14-32/
LOCATION:Janice Ancrum Senior Life Center\, 1901 Island Walk Way\, Fernandina Beach\, FL\, 32034
CATEGORIES:Music & Dancing
ATTACH;FMTTYPE=image/png:https://www.nassaucountycouncilonaging.org/wp-content/uploads/2021/05/line-dancing.png
END:VEVENT
BEGIN:VEVENT
DTSTART;TZID=America/New_York:20240814T150000
DTEND;TZID=America/New_York:20240814T160000
DTSTAMP:20260423T171527
CREATED:20240810T190026Z
LAST-MODIFIED:20240810T190040Z
UID:10008856-1723647600-1723651200@www.nassaucountycouncilonaging.org
SUMMARY:Basic Conversational Spanish
DESCRIPTION:3:00 pm – 4:00 pm\nIrene Alvarado-Vanderlaat \nBook Now
URL:https://www.nassaucountycouncilonaging.org/calendar/conversational-spanish-3-20/
LOCATION:Janice Ancrum Senior Life Center\, 1901 Island Walk Way\, Fernandina Beach\, FL\, 32034
CATEGORIES:Language
ATTACH;FMTTYPE=image/png:https://www.nassaucountycouncilonaging.org/wp-content/uploads/2022/11/sign-language.png
END:VEVENT
BEGIN:VEVENT
DTSTART;TZID=America/New_York:20240814T153000
DTEND;TZID=America/New_York:20240814T170000
DTSTAMP:20260423T171527
CREATED:20240810T190153Z
LAST-MODIFIED:20240810T190203Z
UID:10008719-1723649400-1723654800@www.nassaucountycouncilonaging.org
SUMMARY:Support Group
DESCRIPTION:Caregiver Support Group\nOffers support and education for caregivers. Respite care is available for loved ones. Guest speakers are often featured. \n3:30 – 5 pm\nContact Emily Kunzelmann | 904-775-5472 or ekunzelmann@nassaucountycoa.org\nor Jennifer Gundling  |  904-775-5488 or jgundling@nassaucountycoa.org \nBook Now
URL:https://www.nassaucountycouncilonaging.org/calendar/support-group-25-3-2/
LOCATION:Janice Ancrum Senior Life Center\, 1901 Island Walk Way\, Fernandina Beach\, FL\, 32034
CATEGORIES:Health & Support
ATTACH;FMTTYPE=image/png:https://www.nassaucountycouncilonaging.org/wp-content/uploads/2023/06/CareSized.png
END:VEVENT
END:VCALENDAR