BEGIN:VCALENDAR
VERSION:2.0
PRODID:-//Nassau County Council on Aging - ECPv6.15.20//NONSGML v1.0//EN
CALSCALE:GREGORIAN
METHOD:PUBLISH
X-ORIGINAL-URL:https://www.nassaucountycouncilonaging.org
X-WR-CALDESC:Events for Nassau County Council on Aging
REFRESH-INTERVAL;VALUE=DURATION:PT1H
X-Robots-Tag:noindex
X-PUBLISHED-TTL:PT1H
BEGIN:VTIMEZONE
TZID:America/New_York
BEGIN:DAYLIGHT
TZOFFSETFROM:-0500
TZOFFSETTO:-0400
TZNAME:EDT
DTSTART:20230312T070000
END:DAYLIGHT
BEGIN:STANDARD
TZOFFSETFROM:-0400
TZOFFSETTO:-0500
TZNAME:EST
DTSTART:20231105T060000
END:STANDARD
BEGIN:DAYLIGHT
TZOFFSETFROM:-0500
TZOFFSETTO:-0400
TZNAME:EDT
DTSTART:20240310T070000
END:DAYLIGHT
BEGIN:STANDARD
TZOFFSETFROM:-0400
TZOFFSETTO:-0500
TZNAME:EST
DTSTART:20241103T060000
END:STANDARD
BEGIN:DAYLIGHT
TZOFFSETFROM:-0500
TZOFFSETTO:-0400
TZNAME:EDT
DTSTART:20250309T070000
END:DAYLIGHT
BEGIN:STANDARD
TZOFFSETFROM:-0400
TZOFFSETTO:-0500
TZNAME:EST
DTSTART:20251102T060000
END:STANDARD
END:VTIMEZONE
BEGIN:VEVENT
DTSTART;TZID=America/New_York:20240809T083000
DTEND;TZID=America/New_York:20240809T093000
DTSTAMP:20260423T103637
CREATED:20240803T192036Z
LAST-MODIFIED:20240803T192037Z
UID:10008518-1723192200-1723195800@www.nassaucountycouncilonaging.org
SUMMARY:Zumba Gold - Weight Training & Toning
DESCRIPTION:8:30 am – 9:30 am\nStacey “Sparkle” Vinson \nBook Now
URL:https://www.nassaucountycouncilonaging.org/calendar/zumba-gold-weight-training-2-2-4-15-11-11-32/
LOCATION:Janice Ancrum Senior Life Center\, 1901 Island Walk Way\, Fernandina Beach\, FL\, 32034
CATEGORIES:Wellness, Health & Fitness
ATTACH;FMTTYPE=image/png:https://www.nassaucountycouncilonaging.org/wp-content/uploads/2023/01/zumba-gold-orange.png
END:VEVENT
BEGIN:VEVENT
DTSTART;TZID=America/New_York:20240809T090000
DTEND;TZID=America/New_York:20240809T094500
DTSTAMP:20260423T103637
CREATED:20240803T192133Z
LAST-MODIFIED:20240803T192135Z
UID:10008535-1723194000-1723196700@www.nassaucountycouncilonaging.org
SUMMARY:Chair Yoga
DESCRIPTION:9 – 9:45 am\nTina LaVacca \nBook Now
URL:https://www.nassaucountycouncilonaging.org/calendar/chair-yoga-5-11-27-7/
LOCATION:Janice Ancrum Senior Life Center\, 1901 Island Walk Way\, Fernandina Beach\, FL\, 32034
CATEGORIES:Wellness, Health & Fitness
ATTACH;FMTTYPE=image/png:https://www.nassaucountycouncilonaging.org/wp-content/uploads/2021/12/yoga.png
END:VEVENT
BEGIN:VEVENT
DTSTART;TZID=America/New_York:20240809T093000
DTEND;TZID=America/New_York:20240809T120000
DTSTAMP:20260423T103637
CREATED:20240803T192229Z
LAST-MODIFIED:20240803T192232Z
UID:10008548-1723195800-1723204800@www.nassaucountycouncilonaging.org
SUMMARY:Canasta: Hand\, Knee & Foot
DESCRIPTION:Open Play & Instruction\n9:30 am – 12:00 pm\nDebbie Price \nBook Now
URL:https://www.nassaucountycouncilonaging.org/calendar/canasta-5-2-2-2-9-24-12-27-7/
LOCATION:Janice Ancrum Senior Life Center\, 1901 Island Walk Way\, Fernandina Beach\, FL\, 32034
CATEGORIES:Cards & Games
ATTACH;FMTTYPE=image/png:https://www.nassaucountycouncilonaging.org/wp-content/uploads/2022/11/card-games.png
END:VEVENT
BEGIN:VEVENT
DTSTART;TZID=America/New_York:20240809T094500
DTEND;TZID=America/New_York:20240809T104500
DTSTAMP:20260423T103637
CREATED:20240803T192319Z
LAST-MODIFIED:20240803T192321Z
UID:10008561-1723196700-1723200300@www.nassaucountycouncilonaging.org
SUMMARY:Zumba Step-Up
DESCRIPTION:9:45 am – 10:45 am\nStacey “Sparkle” Vinson \nBook Now
URL:https://www.nassaucountycouncilonaging.org/calendar/zumba-step-up-17-9-31/
LOCATION:Janice Ancrum Senior Life Center\, 1901 Island Walk Way\, Fernandina Beach\, FL\, 32034
CATEGORIES:Wellness, Health & Fitness
ATTACH;FMTTYPE=image/png:https://www.nassaucountycouncilonaging.org/wp-content/uploads/2023/01/zumba-gold-orange.png
END:VEVENT
BEGIN:VEVENT
DTSTART;TZID=America/New_York:20240809T100000
DTEND;TZID=America/New_York:20240809T110000
DTSTAMP:20260423T103637
CREATED:20240803T192417Z
LAST-MODIFIED:20240803T192419Z
UID:10009668-1723197600-1723201200@www.nassaucountycouncilonaging.org
SUMMARY:Aerobic Exercise
DESCRIPTION:10:00 am – 11:00 am\nCatherine Paradise \nBook Now
URL:https://www.nassaucountycouncilonaging.org/calendar/aerobic-exercise-3-13-7/
LOCATION:Janice Ancrum Senior Life Center\, 1901 Island Walk Way\, Fernandina Beach\, FL\, 32034
CATEGORIES:Wellness, Health & Fitness
ATTACH;FMTTYPE=image/png:https://www.nassaucountycouncilonaging.org/wp-content/uploads/2021/12/excercise.png
END:VEVENT
BEGIN:VEVENT
DTSTART;TZID=America/New_York:20240809T110000
DTEND;TZID=America/New_York:20240809T123000
DTSTAMP:20260423T103637
CREATED:20240803T192627Z
LAST-MODIFIED:20240803T192628Z
UID:10008566-1723201200-1723206600@www.nassaucountycouncilonaging.org
SUMMARY:NAMI Mental Health Support Group
DESCRIPTION:National Alliance of Mental Illness (NAMI)\n11:00 am – 12:30 pm \nShare experiences with individuals\, family members and friends impacted by mental illness\nContact: NAMI Nassau\, 904-277-1886\nNational Alliance of Mental Illness \nBook Now
URL:https://www.nassaucountycouncilonaging.org/calendar/nami-mental-health-support-group-3-2-2-6-49-21/
LOCATION:Janice Ancrum Senior Life Center\, 1901 Island Walk Way\, Fernandina Beach\, FL\, 32034
CATEGORIES:Health & Support
ATTACH;FMTTYPE=image/png:https://www.nassaucountycouncilonaging.org/wp-content/uploads/2023/03/NAMISized.png
END:VEVENT
BEGIN:VEVENT
DTSTART;TZID=America/New_York:20240809T111500
DTEND;TZID=America/New_York:20240809T121500
DTSTAMP:20260423T103637
CREATED:20240803T192522Z
LAST-MODIFIED:20240803T192525Z
UID:10008932-1723202100-1723205700@www.nassaucountycouncilonaging.org
SUMMARY:Pilates
DESCRIPTION:11:15 am – 12:15 pm\nCatherine Paradise \nBook Now
URL:https://www.nassaucountycouncilonaging.org/calendar/pilates-6-13-7/
LOCATION:Janice Ancrum Senior Life Center\, 1901 Island Walk Way\, Fernandina Beach\, FL\, 32034
CATEGORIES:Wellness, Health & Fitness
ATTACH;FMTTYPE=image/png:https://www.nassaucountycouncilonaging.org/wp-content/uploads/2023/01/pelvic-floor-and-core.png
END:VEVENT
BEGIN:VEVENT
DTSTART;TZID=America/New_York:20240809T113000
DTEND;TZID=America/New_York:20240809T123000
DTSTAMP:20260423T103637
CREATED:20240803T192734Z
LAST-MODIFIED:20240803T192736Z
UID:10008596-1723203000-1723206600@www.nassaucountycouncilonaging.org
SUMMARY:Total Body Workout
DESCRIPTION:11:30 am – 12:30 pm\nStacey “Sparkle” Vinson \nBook Now
URL:https://www.nassaucountycouncilonaging.org/calendar/full-body-workout-6-14-10-3-6-31/
LOCATION:Janice Ancrum Senior Life Center\, 1901 Island Walk Way\, Fernandina Beach\, FL\, 32034
CATEGORIES:Wellness, Health & Fitness
ATTACH;FMTTYPE=image/png:https://www.nassaucountycouncilonaging.org/wp-content/uploads/2021/12/excercise.png
END:VEVENT
BEGIN:VEVENT
DTSTART;TZID=America/New_York:20240809T123000
DTEND;TZID=America/New_York:20240809T160000
DTSTAMP:20260423T103637
CREATED:20240803T192842Z
LAST-MODIFIED:20240803T192844Z
UID:10008613-1723206600-1723219200@www.nassaucountycouncilonaging.org
SUMMARY:Bridge
DESCRIPTION:Open Play – All Levels\n12:30 pm – 4:00 pm \nBook Now
URL:https://www.nassaucountycouncilonaging.org/calendar/bridge-3-18-15-7-33/
LOCATION:Janice Ancrum Senior Life Center\, 1901 Island Walk Way\, Fernandina Beach\, FL\, 32034
CATEGORIES:Cards & Games
ATTACH;FMTTYPE=image/png:https://www.nassaucountycouncilonaging.org/wp-content/uploads/2022/11/card-games.png
END:VEVENT
BEGIN:VEVENT
DTSTART;TZID=America/New_York:20240809T130000
DTEND;TZID=America/New_York:20240809T140000
DTSTAMP:20260423T103637
CREATED:20240803T193347Z
LAST-MODIFIED:20240803T193349Z
UID:10008643-1723208400-1723212000@www.nassaucountycouncilonaging.org
SUMMARY:Posture & Balance
DESCRIPTION:1:00 pm – 2:00 pm\nJohn Cipriani \nBook Now
URL:https://www.nassaucountycouncilonaging.org/calendar/posture-balance-4-12-31/
LOCATION:Janice Ancrum Senior Life Center\, 1901 Island Walk Way\, Fernandina Beach\, FL\, 32034
CATEGORIES:Wellness, Health & Fitness
ATTACH;FMTTYPE=image/png:https://www.nassaucountycouncilonaging.org/wp-content/uploads/2021/12/excercise.png
END:VEVENT
BEGIN:VEVENT
DTSTART;TZID=America/New_York:20240809T130000
DTEND;TZID=America/New_York:20240809T163000
DTSTAMP:20260423T103637
CREATED:20240803T192948Z
LAST-MODIFIED:20240803T192952Z
UID:10010094-1723208400-1723221000@www.nassaucountycouncilonaging.org
SUMMARY:Calligraphy / Painting
DESCRIPTION:1 – 4:30 pm\nLeeanne Saylors\nSaylors Accounting & Tax \nBook Now
URL:https://www.nassaucountycouncilonaging.org/calendar/calligraphy-23-5-3/
LOCATION:Janice Ancrum Senior Life Center\, 1901 Island Walk Way\, Fernandina Beach\, FL\, 32034
CATEGORIES:Arts, Crafts & Hobbies
ATTACH;FMTTYPE=image/png:https://www.nassaucountycouncilonaging.org/wp-content/uploads/2022/09/art-and-crafts.png
END:VEVENT
BEGIN:VEVENT
DTSTART;TZID=America/New_York:20240809T143000
DTEND;TZID=America/New_York:20240809T163000
DTSTAMP:20260423T103637
CREATED:20240803T193458Z
LAST-MODIFIED:20240803T193503Z
UID:10009780-1723213800-1723221000@www.nassaucountycouncilonaging.org
SUMMARY:Painting
DESCRIPTION:2:30 – 4:30 pm\nLeeanne Saylors\nSaylors Accounting & Tax \nBook Now
URL:https://www.nassaucountycouncilonaging.org/calendar/painting-23-5/
LOCATION:Janice Ancrum Senior Life Center\, 1901 Island Walk Way\, Fernandina Beach\, FL\, 32034
CATEGORIES:Arts, Crafts & Hobbies
ATTACH;FMTTYPE=image/png:https://www.nassaucountycouncilonaging.org/wp-content/uploads/2022/09/art-and-crafts.png
END:VEVENT
END:VCALENDAR